BEGIN:VCALENDAR
VERSION:2.0
PRODID:-//SOP Lifestyle Productions - ECPv5.0.3.1//NONSGML v1.0//EN
CALSCALE:GREGORIAN
METHOD:PUBLISH
X-WR-CALNAME:SOP Lifestyle Productions
X-ORIGINAL-URL:https://swingeropenpoly.com
X-WR-CALDESC:Events for SOP Lifestyle Productions
BEGIN:VTIMEZONE
TZID:America/Vancouver
BEGIN:DAYLIGHT
TZOFFSETFROM:-0800
TZOFFSETTO:-0700
TZNAME:PDT
DTSTART:20260308T100000
END:DAYLIGHT
BEGIN:STANDARD
TZOFFSETFROM:-0700
TZOFFSETTO:-0800
TZNAME:PST
DTSTART:20261101T090000
END:STANDARD
BEGIN:DAYLIGHT
TZOFFSETFROM:-0800
TZOFFSETTO:-0700
TZNAME:PDT
DTSTART:20270314T100000
END:DAYLIGHT
BEGIN:STANDARD
TZOFFSETFROM:-0700
TZOFFSETTO:-0800
TZNAME:PST
DTSTART:20271107T090000
END:STANDARD
END:VTIMEZONE
BEGIN:VEVENT
DTSTART;TZID=America/Vancouver:20260709T140000
DTEND;TZID=America/Vancouver:20260716T090000
DTSTAMP:20260421T102218
CREATED:20250401T191346Z
LAST-MODIFIED:20250401T191448Z
UID:7957-1783605600-1784192400@swingeropenpoly.com
SUMMARY:VIRGIN VOYAGES ALASKAN ESCAPE 2026
DESCRIPTION: \nJULY 7 to 16\, 2026\n
URL:https://swingeropenpoly.com/event/vvalaskanescape2026/
LOCATION:Virgin Voyages
CATEGORIES:Signature Event
END:VEVENT
BEGIN:VEVENT
DTSTART;TZID=America/Vancouver:20260802T160000
DTEND;TZID=America/Vancouver:20260803T110000
DTSTAMP:20260421T102218
CREATED:20240905T184332Z
LAST-MODIFIED:20240905T184332Z
UID:7435-1785686400-1785754800@swingeropenpoly.com
SUMMARY:VIRGIN VOYAGES SUMMER CAMP 2026 PRE-CRUISE HOTEL PACKAGE
DESCRIPTION: \nAugust 2 to 3\, 2026\n
URL:https://swingeropenpoly.com/event/vvscpc2026/
LOCATION:TBA\, Vancouver\, BC\, Canada
CATEGORIES:Special Event
END:VEVENT
BEGIN:VEVENT
DTSTART;TZID=America/Vancouver:20260803T140000
DTEND;TZID=America/Vancouver:20260808T090000
DTSTAMP:20260421T102218
CREATED:20240905T180349Z
LAST-MODIFIED:20240905T180629Z
UID:7421-1785765600-1786179600@swingeropenpoly.com
SUMMARY:VIRGIN VOYAGES SUMMER CAMP 2026
DESCRIPTION: \nAUGUST 3 to 8\, 2026\n
URL:https://swingeropenpoly.com/event/vvsummercamp2026/
LOCATION:Virgin Voyages
CATEGORIES:Signature Event
END:VEVENT
BEGIN:VEVENT
DTSTART;TZID=America/Vancouver:20260820T140000
DTEND;TZID=America/Vancouver:20260827T090000
DTSTAMP:20260421T102218
CREATED:20250401T191908Z
LAST-MODIFIED:20250401T191908Z
UID:7960-1787234400-1787821200@swingeropenpoly.com
SUMMARY:VIRGIN VOYAGES EUROPEAN ADVENTURE 2026
DESCRIPTION: \nAUGUST 20 to 27\, 2026\n
URL:https://swingeropenpoly.com/event/vveuropeanadventure2026/
LOCATION:Virgin Voyages
CATEGORIES:Signature Event
END:VEVENT
BEGIN:VEVENT
DTSTART;TZID=America/Vancouver:20260906T170000
DTEND;TZID=America/Vancouver:20260920T110000
DTSTAMP:20260421T102218
CREATED:20190815T205032Z
LAST-MODIFIED:20240905T180906Z
UID:3591-1788714000-1789902000@swingeropenpoly.com
SUMMARY:EUROPE LIFESTYLE TAKEOVER 2026 – ITALY EDITION
DESCRIPTION: \nWe are thrilled to announce our 2nd Annual Europe Lifestyle Takeover September 6 to 20\, 2026 (dates TBC)!  \nOur new International Takeover will focus on one country every year and our second one will take you to the land of pasta\, wine\, and amore – Italy! \nDetails will be announced in late 2025! \nJoin our Email List and be the first to get all the details\, plus you may get some extra bonuses! \n
URL:https://swingeropenpoly.com/event/eltitaly/
LOCATION:Tuscany\, Italy\, Tuscany\, Italy
CATEGORIES:Signature Event,Special Event
END:VEVENT
BEGIN:VEVENT
DTSTART;TZID=America/Vancouver:20260909T160000
DTEND;TZID=America/Vancouver:20260910T110000
DTSTAMP:20260421T102219
CREATED:20250916T141054Z
LAST-MODIFIED:20250916T141054Z
UID:8282-1788969600-1789038000@swingeropenpoly.com
SUMMARY:VIRGIN VOYAGES STARRY NIGHTS 2026 PRE-CRUISE HOTEL PACKAGE
DESCRIPTION:\nSeptember 9 to 10\, 2026\n
URL:https://swingeropenpoly.com/event/vvsnpc2026/
LOCATION:Fresh Hotel\, Athens\, Greece
CATEGORIES:Special Event
END:VEVENT
BEGIN:VEVENT
DTSTART;TZID=America/Vancouver:20260910T140000
DTEND;TZID=America/Vancouver:20260920T100000
DTSTAMP:20260421T102219
CREATED:20250916T134142Z
LAST-MODIFIED:20250916T134142Z
UID:8280-1789048800-1789898400@swingeropenpoly.com
SUMMARY:VIRGIN VOYAGES STARRY NIGHTS 2026
DESCRIPTION: \nSEPTEMBER 10 to 20\, 2026\n
URL:https://swingeropenpoly.com/event/vvsn2026/
LOCATION:Virgin Voyages
CATEGORIES:Special Event
END:VEVENT
BEGIN:VEVENT
DTSTART;TZID=America/Vancouver:20270116T150000
DTEND;TZID=America/Vancouver:20270123T170000
DTSTAMP:20260421T102219
CREATED:20200227T002307Z
LAST-MODIFIED:20230728T051606Z
UID:4157-1800111600-1800723600@swingeropenpoly.com
SUMMARY:ANTARCTICA EXPEDITION
DESCRIPTION:Signature Experience #5: Antarctica Expedition\nJanuary 2027 Dates TBC\n
URL:https://swingeropenpoly.com/event/antarctica/
LOCATION:Antarctica\, Antarctica
CATEGORIES:Signature Event,Special Event
END:VEVENT
BEGIN:VEVENT
DTSTART;TZID=America/Vancouver:20270303T150000
DTEND;TZID=America/Vancouver:20270317T110000
DTSTAMP:20260421T102219
CREATED:20180304T011718Z
LAST-MODIFIED:20240606T022534Z
UID:1711-1804086000-1805281200@swingeropenpoly.com
SUMMARY:DOWN UNDER + MIDDLE EARTH ADVENTURE
DESCRIPTION:Signature Experience #6: Down Under + Middle Earth Adventure\n\nMarch 2027 Dates TBA\n\nPart 1: Australia\nPart 2: New Zealand\n
URL:https://swingeropenpoly.com/event/oznz/
LOCATION:Australia & New Zealand\, Australia
CATEGORIES:Signature Event,Special Event
END:VEVENT
BEGIN:VEVENT
DTSTART;TZID=America/Vancouver:20270407T170000
DTEND;TZID=America/Vancouver:20270421T110000
DTSTAMP:20260421T102219
CREATED:20190314T041058Z
LAST-MODIFIED:20240606T022455Z
UID:2897-1807117200-1808305200@swingeropenpoly.com
SUMMARY:INDIAN OCEAN ISLAND HOPPING
DESCRIPTION:\nIndian Ocean Island Hopping – Maldives\nApril 7 to 21\, 2027 Dates TBC\n\n\n\nSingapore to Maldives\n\n\n
URL:https://swingeropenpoly.com/event/islandhopping/
LOCATION:TBA\, Vancouver\, BC\, Canada
CATEGORIES:Signature Event,Special Event
END:VEVENT
END:VCALENDAR